Package: hipathia
Version: 3.7.0
Command: E:\biocbuild\bbs-3.21-bioc\R\bin\R.exe CMD check --no-multiarch --install=check:hipathia.install-out.txt --library=E:\biocbuild\bbs-3.21-bioc\R\library --no-vignettes --timings hipathia_3.7.0.tar.gz
StartedAt: 2025-02-20 02:01:39 -0500 (Thu, 20 Feb 2025)
EndedAt: 2025-02-20 02:17:11 -0500 (Thu, 20 Feb 2025)
EllapsedTime: 932.1 seconds
RetCode: 0
Status: OK
CheckDir: hipathia.Rcheck
Warnings: 0