##############################################################################
##############################################################################
###
### Running command:
###
###   E:\biocbuild\bbs-3.21-bioc\R\bin\R.exe CMD check --no-multiarch --install=check:hipathia.install-out.txt --library=E:\biocbuild\bbs-3.21-bioc\R\library --no-vignettes --timings hipathia_3.7.0.tar.gz
###
##############################################################################
##############################################################################


* using log directory 'E:/biocbuild/bbs-3.21-bioc/meat/hipathia.Rcheck'
* using R Under development (unstable) (2025-01-21 r87610 ucrt)
* using platform: x86_64-w64-mingw32
* R was compiled by
    gcc.exe (GCC) 13.3.0
    GNU Fortran (GCC) 13.3.0
* running under: Windows Server 2022 x64 (build 20348)
* using session charset: UTF-8
* using option '--no-vignettes'
* checking for file 'hipathia/DESCRIPTION' ... OK
* this is package 'hipathia' version '3.7.0'
* package encoding: UTF-8
* checking package namespace information ... OK
* checking package dependencies ... OK
* checking if this is a source package ... OK
* checking if there is a namespace ... OK
* checking for hidden files and directories ... OK
* checking for portable file names ... OK
* checking whether package 'hipathia' can be installed ... OK
* checking installed package size ... INFO
  installed size is  9.0Mb
  sub-directories of 1Mb or more:
    data      4.1Mb
    extdata   4.4Mb
* checking package directory ... OK
* checking 'build' directory ... OK
* checking DESCRIPTION meta-information ... OK
* checking top-level files ... OK
* checking for left-over files ... OK
* checking index information ... OK
* checking package subdirectories ... OK
* checking code files for non-ASCII characters ... OK
* checking R files for syntax errors ... OK
* checking whether the package can be loaded ... OK
* checking whether the package can be loaded with stated dependencies ... OK
* checking whether the package can be unloaded cleanly ... OK
* checking whether the namespace can be loaded with stated dependencies ... OK
* checking whether the namespace can be unloaded cleanly ... OK
* checking dependencies in R code ... OK
* checking S3 generic/method consistency ... OK
* checking replacement functions ... OK
* checking foreign function calls ... OK
* checking R code for possible problems ... NOTE
DAreport: no visible binding for global variable 'ID'
DAreport: no visible binding for global variable 'FDRp.value'
DAtop : <anonymous>: no visible binding for global variable
  'FDRp.value'
DAtop : <anonymous>: no visible binding for global variable 'statistic'
DAtop : <anonymous>: no visible binding for global variable 'p.value'
DAtop : <anonymous>: no visible binding for global variable 'name'
DAtop : <anonymous>: no visible binding for global variable 'logPV'
DAtop : <anonymous>: no visible binding for global variable 'feature'
DAtop: no visible binding for global variable 'name'
DAtop: no visible binding for global variable 'logPV'
DAtop: no visible binding for global variable 'direction'
get_edges_df: no visible binding for global variable 'from'
get_edges_df: no visible binding for global variable 'to'
nsig_plot: no visible binding for global variable 'total'
nsig_plot: no visible binding for global variable 'UPs'
nsig_plot: no visible binding for global variable 'DOWNs'
nsig_plot: no visible binding for global variable 'feature'
nsig_plot: no visible binding for global variable 'UP'
nsig_plot: no visible binding for global variable 'DOWN'
nsig_plot: no visible binding for global variable 'Not'
nsig_plot: no visible binding for global variable 'value'
nsig_plot: no visible binding for global variable 'variable'
prepare_DAedges: no visible binding for global variable 'to'
prepare_DAedges: no visible binding for global variable 'functional'
prepare_DAedges: no visible binding for global variable 'status'
prepare_DAedges: no visible binding for global variable 'type'
prepare_DAnodes : <anonymous>: no visible binding for global variable
  'ID'
prepare_DAnodes : <anonymous>: no visible binding for global variable
  'FDRp.value'
prepare_DAnodes : <anonymous>: no visible binding for global variable
  'statistic'
prepare_DAnodes : <anonymous>: no visible binding for global variable
  'p.value'
prepare_edges: no visible binding for global variable 'to'
prepare_edges: no visible binding for global variable 'functional'
summary_plot: no visible binding for global variable 'total'
summary_plot: no visible binding for global variable 'UPs'
summary_plot: no visible binding for global variable 'DOWNs'
summary_plot: no visible binding for global variable 'name'
summary_plot: no visible binding for global variable 'UP'
summary_plot: no visible binding for global variable 'DOWN'
summary_plot: no visible binding for global variable 'Not'
summary_plot: no visible binding for global variable 'value'
summary_plot: no visible binding for global variable 'variable'
summary_plot: no visible binding for global variable 'UP.nodes'
summary_plot: no visible binding for global variable 'DOWN.nodes'
summary_plot: no visible binding for global variable 'nodes'
summary_plot: no visible binding for global variable 'ratio.sigs'
summary_plot: no visible binding for global variable 'ratio.UPs'
summary_plot: no visible binding for global variable 'ratio.DOWNs'
Undefined global functions or variables:
  DOWN DOWN.nodes DOWNs FDRp.value ID Not UP UP.nodes UPs direction
  feature from functional logPV name nodes p.value ratio.DOWNs
  ratio.UPs ratio.sigs statistic status to total type value variable
* checking Rd files ... OK
* checking Rd metadata ... OK
* checking Rd cross-references ... OK
* checking for missing documentation entries ... OK
* checking for code/documentation mismatches ... OK
* checking Rd \usage sections ... OK
* checking Rd contents ... OK
* checking for unstated dependencies in examples ... OK
* checking contents of 'data' directory ... OK
* checking data for non-ASCII characters ... OK
* checking LazyData ... OK
* checking data for ASCII and uncompressed saves ... OK
* checking sizes of PDF files under 'inst/doc' ... OK
* checking files in 'vignettes' ... OK
* checking examples ... OK
Examples with CPU (user + system) or elapsed time > 5s
                          user system elapsed
quantify_terms           28.31   2.77   31.71
create_report            22.11   1.14   24.94
normalize_data           22.18   1.02   23.69
get_pathways_annotations 20.83   1.54   22.83
translate_data           20.10   0.92   21.18
node_color_per_de        20.25   0.72   21.19
get_path_names           19.81   0.86   20.86
hipathia                 19.03   0.76   19.91
node_color               18.84   0.83   19.83
pathway_comparison_plot  18.41   0.80   19.33
visualize_report         18.35   0.70   19.32
save_results             17.99   0.76   19.11
load_pathways            17.41   0.89   19.26
normalize_paths          16.96   0.68   18.05
get_pathways_list        16.46   0.67   17.28
get_node_names           16.36   0.75   17.20
get_pathways_summary     14.24   0.66   15.03
get_go_names              4.56   0.67    6.16
* checking for unstated dependencies in 'tests' ... OK
* checking tests ...
  Running 'testthat.R'
 OK
* checking for unstated dependencies in vignettes ... OK
* checking package vignettes ... OK
* checking running R code from vignettes ... SKIPPED
* checking re-building of vignette outputs ... SKIPPED
* checking PDF version of manual ... OK
* DONE

Status: 1 NOTE
See
  'E:/biocbuild/bbs-3.21-bioc/meat/hipathia.Rcheck/00check.log'
for details.