Package: hipathia
Version: 3.7.0
Command: /home/biocbuild/bbs-3.21-bioc/R/bin/R CMD INSTALL hipathia
StartedAt: 2025-02-19 15:37:22 -0500 (Wed, 19 Feb 2025)
EndedAt: 2025-02-19 15:37:58 -0500 (Wed, 19 Feb 2025)
EllapsedTime: 35.2 seconds
RetCode: 0
Status: OK