Package: hipathia
Version: 3.7.0
Command: /home/biocbuild/bbs-3.21-bioc/R/bin/R CMD check --install=check:hipathia.install-out.txt --library=/home/biocbuild/bbs-3.21-bioc/R/site-library --timings hipathia_3.7.0.tar.gz
StartedAt: 2025-02-19 23:06:30 -0500 (Wed, 19 Feb 2025)
EndedAt: 2025-02-19 23:26:40 -0500 (Wed, 19 Feb 2025)
EllapsedTime: 1209.8 seconds
RetCode: 0
Status: OK
CheckDir: hipathia.Rcheck
Warnings: 0