Package: hipathia Version: 3.7.0 Command: /home/biocbuild/bbs-3.21-bioc/R/bin/R CMD build --keep-empty-dirs --no-resave-data hipathia StartedAt: 2025-02-19 17:39:32 -0500 (Wed, 19 Feb 2025) EndedAt: 2025-02-19 17:46:37 -0500 (Wed, 19 Feb 2025) EllapsedTime: 424.6 seconds RetCode: 0 Status: OK PackageFile: hipathia_3.7.0.tar.gz PackageFileSize: 7.767 <A href="http://en.wikipedia.org/wiki/MiB" target="_blank">MiB</A>