Package: hipathia
Version: 3.7.0
Command: /Library/Frameworks/R.framework/Resources/bin/R CMD INSTALL hipathia
StartedAt: 2025-02-19 15:42:26 -0500 (Wed, 19 Feb 2025)
EndedAt: 2025-02-19 15:43:16 -0500 (Wed, 19 Feb 2025)
EllapsedTime: 49.9 seconds
RetCode: 0
Status: OK