Package: hipathia Version: 3.7.0 Command: rm -rf hipathia.buildbin-libdir && mkdir hipathia.buildbin-libdir && /Users/biocbuild/BBS/utils/build-universal.sh hipathia_3.7.0.tar.gz /Library/Frameworks/R.framework/Resources/bin/R hipathia.buildbin-libdir StartedAt: 2025-02-20 00:36:31 -0500 (Thu, 20 Feb 2025) EndedAt: 2025-02-20 00:37:25 -0500 (Thu, 20 Feb 2025) EllapsedTime: 53.5 seconds RetCode: 0 Status: OK PackageFile: hipathia_3.7.0.tgz PackageFileSize: 7.65 <A href="http://en.wikipedia.org/wiki/MiB" target="_blank">MiB</A>