##############################################################################
##############################################################################
###
### Running command:
###
###   rm -rf hipathia.buildbin-libdir && mkdir hipathia.buildbin-libdir && /Users/biocbuild/BBS/utils/build-universal.sh hipathia_3.7.0.tar.gz /Library/Frameworks/R.framework/Resources/bin/R hipathia.buildbin-libdir
###
##############################################################################
##############################################################################


>>>>>>> 
>>>>>>> INSTALLATION WITH 'R CMD INSTALL --preclean --no-multiarch --library=hipathia.buildbin-libdir hipathia_3.7.0.tar.gz'
>>>>>>> 

* installing *source* package ‘hipathia’ ...
** this is package ‘hipathia’ version ‘3.7.0’
** using staged installation
** R
** data
*** moving datasets to lazyload DB
** inst
** byte-compile and prepare package for lazy loading
** help
*** installing help indices
** building package indices
** installing vignettes
** testing if installed package can be loaded from temporary location
** testing if installed package can be loaded from final location
** testing if installed package keeps a record of temporary installation path
* DONE (hipathia)