Package: hipathia
Version: 3.7.0
Command: /home/biocbuild/R/R/bin/R CMD build --keep-empty-dirs --no-resave-data hipathia
StartedAt: 2025-01-28 23:37:49 -0000 (Tue, 28 Jan 2025)
EndedAt: 2025-01-28 23:48:26 -0000 (Tue, 28 Jan 2025)
EllapsedTime: 636.4 seconds
RetCode: 0
Status: OK
PackageFile: hipathia_3.7.0.tar.gz
PackageFileSize: 7.752 <A href="http://en.wikipedia.org/wiki/MiB" target="_blank">MiB</A>