Package: hipathia Version: 3.7.0 Command: /Library/Frameworks/R.framework/Resources/bin/R CMD check --install=check:hipathia.install-out.txt --library=/Library/Frameworks/R.framework/Resources/library --no-vignettes --timings hipathia_3.7.0.tar.gz StartedAt: 2025-02-19 19:44:10 -0500 (Wed, 19 Feb 2025) EndedAt: 2025-02-19 19:49:40 -0500 (Wed, 19 Feb 2025) EllapsedTime: 330.1 seconds RetCode: 0 Status: OK CheckDir: hipathia.Rcheck Warnings: 0