Package: h5mread
Version: 0.99.4
Maintainer: Hervé Pagès
MaintainerEmail: hpages.on.github at gmail.com
git_url: https://git.bioconductor.org/packages/h5mread
git_branch: devel
git_last_commit: 8aced10
git_last_commit_date: 2025-01-21 16:44:07 -0500 (Tue, 21 Jan 2025)