Package: gwasurvivr Version: 1.25.0 Command: E:\biocbuild\bbs-3.21-bioc\R\bin\R.exe CMD INSTALL gwasurvivr StartedAt: 2025-02-19 16:44:20 -0500 (Wed, 19 Feb 2025) EndedAt: 2025-02-19 16:45:15 -0500 (Wed, 19 Feb 2025) EllapsedTime: 54.9 seconds RetCode: 0 Status: OK