Package: gwasurvivr
Version: 1.25.0
Command: chmod a+r gwasurvivr -R && E:\biocbuild\bbs-3.21-bioc\R\bin\R.exe CMD build --keep-empty-dirs --no-resave-data gwasurvivr
StartedAt: 2025-02-19 19:11:17 -0500 (Wed, 19 Feb 2025)
EndedAt: 2025-02-19 19:14:18 -0500 (Wed, 19 Feb 2025)
EllapsedTime: 180.6 seconds
RetCode: 0
Status: OK
PackageFile: gwasurvivr_1.25.0.tar.gz
PackageFileSize: 343.6 <A href="http://en.wikipedia.org/wiki/KiB" target="_blank">KiB</A>