Package: graphite
Version: 1.53.0
Command: /home/biocbuild/R/R/bin/R CMD INSTALL graphite
StartedAt: 2025-01-29 19:46:03 -0000 (Wed, 29 Jan 2025)
EndedAt: 2025-01-29 19:46:22 -0000 (Wed, 29 Jan 2025)
EllapsedTime: 19.0 seconds
RetCode: 0
Status: OK