Package: graphite
Version: 1.53.0
Command: /home/biocbuild/R/R/bin/R CMD check --install=check:graphite.install-out.txt --library=/home/biocbuild/R/R/site-library --no-vignettes --timings graphite_1.53.0.tar.gz
StartedAt: 2025-01-28 11:17:03 -0000 (Tue, 28 Jan 2025)
EndedAt: 2025-01-28 11:22:01 -0000 (Tue, 28 Jan 2025)
EllapsedTime: 298.4 seconds
RetCode: 0
Status: OK
CheckDir: graphite.Rcheck
Warnings: 0