Package: graphite
Version: 1.53.0
Command: /Library/Frameworks/R.framework/Resources/bin/R CMD INSTALL graphite
StartedAt: 2025-02-19 15:07:28 -0500 (Wed, 19 Feb 2025)
EndedAt: 2025-02-19 15:07:33 -0500 (Wed, 19 Feb 2025)
EllapsedTime: 5.6 seconds
RetCode: 0
Status: OK