Package: graphite
Version: 1.53.0
Command: /Library/Frameworks/R.framework/Resources/bin/R CMD check --install=check:graphite.install-out.txt --library=/Library/Frameworks/R.framework/Resources/library --no-vignettes --timings graphite_1.53.0.tar.gz
StartedAt: 2025-02-19 19:37:52 -0500 (Wed, 19 Feb 2025)
EndedAt: 2025-02-19 19:39:23 -0500 (Wed, 19 Feb 2025)
EllapsedTime: 90.1 seconds
RetCode: 0
Status: OK
CheckDir: graphite.Rcheck
Warnings: 0