Package: graphite Version: 1.53.0 Command: /Library/Frameworks/R.framework/Resources/bin/R CMD build --keep-empty-dirs --no-resave-data graphite StartedAt: 2025-02-19 16:33:35 -0500 (Wed, 19 Feb 2025) EndedAt: 2025-02-19 16:34:00 -0500 (Wed, 19 Feb 2025) EllapsedTime: 25.3 seconds RetCode: 0 Status: OK PackageFile: graphite_1.53.0.tar.gz PackageFileSize: 766.4 <A href="http://en.wikipedia.org/wiki/KiB" target="_blank">KiB</A>