Package: graphite Version: 1.53.0 Command: rm -rf graphite.buildbin-libdir && mkdir graphite.buildbin-libdir && /Users/biocbuild/BBS/utils/build-universal.sh graphite_1.53.0.tar.gz /Library/Frameworks/R.framework/Resources/bin/R graphite.buildbin-libdir StartedAt: 2025-02-19 22:24:24 -0500 (Wed, 19 Feb 2025) EndedAt: 2025-02-19 22:24:31 -0500 (Wed, 19 Feb 2025) EllapsedTime: 6.2 seconds RetCode: 0 Status: OK PackageFile: graphite_1.53.0.tgz PackageFileSize: 903.6 <A href="http://en.wikipedia.org/wiki/KiB" target="_blank">KiB</A>