##############################################################################
##############################################################################
###
### Running command:
###
###   rm -rf graphite.buildbin-libdir && mkdir graphite.buildbin-libdir && /Users/biocbuild/BBS/utils/build-universal.sh graphite_1.53.0.tar.gz /Library/Frameworks/R.framework/Resources/bin/R graphite.buildbin-libdir
###
##############################################################################
##############################################################################


>>>>>>> 
>>>>>>> INSTALLATION WITH 'R CMD INSTALL --preclean --no-multiarch --library=graphite.buildbin-libdir graphite_1.53.0.tar.gz'
>>>>>>> 

* installing *source* package ‘graphite’ ...
** this is package ‘graphite’ version ‘1.53.0’
** using staged installation
** R
** inst
** byte-compile and prepare package for lazy loading
** help
*** installing help indices
** building package indices
** installing vignettes
** testing if installed package can be loaded from temporary location
** testing if installed package can be loaded from final location
** testing if installed package keeps a record of temporary installation path
* DONE (graphite)