Package: gpls
Version: 1.79.0
Command: E:\biocbuild\bbs-3.21-bioc\R\bin\R.exe CMD INSTALL gpls
StartedAt: 2025-02-19 15:19:35 -0500 (Wed, 19 Feb 2025)
EndedAt: 2025-02-19 15:19:41 -0500 (Wed, 19 Feb 2025)
EllapsedTime: 6.5 seconds
RetCode: 0
Status: OK