Package: gpls
Version: 1.79.0
Command: E:\biocbuild\bbs-3.21-bioc\R\bin\R.exe CMD check --no-multiarch --install=check:gpls.install-out.txt --library=E:\biocbuild\bbs-3.21-bioc\R\library --no-vignettes --timings gpls_1.79.0.tar.gz
StartedAt: 2025-02-20 01:45:34 -0500 (Thu, 20 Feb 2025)
EndedAt: 2025-02-20 01:46:11 -0500 (Thu, 20 Feb 2025)
EllapsedTime: 36.4 seconds
RetCode: 0
Status: WARNINGS
CheckDir: gpls.Rcheck
Warnings: 1