Package: gpls Version: 1.79.0 Command: chmod a+r gpls -R && E:\biocbuild\bbs-3.21-bioc\R\bin\R.exe CMD build --keep-empty-dirs --no-resave-data gpls StartedAt: 2025-02-19 19:05:29 -0500 (Wed, 19 Feb 2025) EndedAt: 2025-02-19 19:05:46 -0500 (Wed, 19 Feb 2025) EllapsedTime: 17.0 seconds RetCode: 0 Status: OK PackageFile: gpls_1.79.0.tar.gz PackageFileSize: 103.2 <A href="http://en.wikipedia.org/wiki/KiB" target="_blank">KiB</A>