Package: gpls Version: 1.79.0 Command: rm -rf gpls.buildbin-libdir && mkdir gpls.buildbin-libdir && E:\biocbuild\bbs-3.21-bioc\R\bin\R.exe CMD INSTALL --build --library=gpls.buildbin-libdir gpls_1.79.0.tar.gz StartedAt: 2025-02-20 07:55:23 -0500 (Thu, 20 Feb 2025) EndedAt: 2025-02-20 07:55:30 -0500 (Thu, 20 Feb 2025) EllapsedTime: 7.0 seconds RetCode: 0 Status: OK PackageFile: gpls_1.79.0.zip PackageFileSize: 168.3 <A href="http://en.wikipedia.org/wiki/KiB" target="_blank">KiB</A>