Package: gpls Version: 1.79.0 Command: /home/biocbuild/bbs-3.21-bioc/R/bin/R CMD INSTALL gpls StartedAt: 2025-02-04 15:01:24 -0500 (Tue, 04 Feb 2025) EndedAt: 2025-02-04 15:01:26 -0500 (Tue, 04 Feb 2025) EllapsedTime: 2.2 seconds RetCode: 0 Status: OK