Package: gmapR Version: 1.49.0 Command: /Library/Frameworks/R.framework/Resources/bin/R CMD INSTALL gmapR StartedAt: 2025-01-31 15:29:14 -0500 (Fri, 31 Jan 2025) EndedAt: 2025-01-31 15:37:58 -0500 (Fri, 31 Jan 2025) EllapsedTime: 524.0 seconds RetCode: 0 Status: OK