Package: ggseqalign
Version: 1.1.0
Maintainer: Simeon Lim Rossmann
MaintainerEmail: simeon.rossmann at nmbu.no
git_url: https://git.bioconductor.org/packages/ggseqalign
git_branch: devel
git_last_commit: 5e75de0
git_last_commit_date: 2024-10-29 11:31:30 -0500 (Tue, 29 Oct 2024)