Package: ggbio
Version: 1.55.0
Maintainer: Michael Lawrence
MaintainerEmail: michafla at gene.com
git_url: https://git.bioconductor.org/packages/ggbio
git_branch: devel
git_last_commit: 289a36c
git_last_commit_date: 2024-10-29 09:39:07 -0500 (Tue, 29 Oct 2024)