Package: genoCN Version: 1.59.0 Command: /Library/Frameworks/R.framework/Resources/bin/R CMD INSTALL genoCN StartedAt: 2025-02-19 15:07:18 -0500 (Wed, 19 Feb 2025) EndedAt: 2025-02-19 15:07:20 -0500 (Wed, 19 Feb 2025) EllapsedTime: 2.0 seconds RetCode: 1 Status: ERROR