Package: genoCN Version: 1.59.0 Command: /Library/Frameworks/R.framework/Resources/bin/R CMD build --keep-empty-dirs --no-resave-data genoCN StartedAt: 2025-02-19 16:25:54 -0500 (Wed, 19 Feb 2025) EndedAt: 2025-02-19 16:25:55 -0500 (Wed, 19 Feb 2025) EllapsedTime: 1.0 seconds RetCode: 1 Status: ERROR PackageFile: None PackageFileSize: NA