Package: genefu Version: 2.39.1 Command: chmod a+r genefu -R && E:\biocbuild\bbs-3.21-bioc\R\bin\R.exe CMD build --keep-empty-dirs --no-resave-data genefu StartedAt: 2025-01-31 18:41:00 -0500 (Fri, 31 Jan 2025) EndedAt: 2025-01-31 18:42:56 -0500 (Fri, 31 Jan 2025) EllapsedTime: 115.8 seconds RetCode: 0 Status: OK PackageFile: genefu_2.39.1.tar.gz PackageFileSize: 4.637 MiB