Package: genefu Version: 2.39.1 Command: /home/biocbuild/bbs-3.21-bioc/R/bin/R CMD build --keep-empty-dirs --no-resave-data genefu StartedAt: 2025-01-31 17:23:08 -0500 (Fri, 31 Jan 2025) EndedAt: 2025-01-31 17:24:25 -0500 (Fri, 31 Jan 2025) EllapsedTime: 77.2 seconds RetCode: 0 Status: OK PackageFile: genefu_2.39.1.tar.gz PackageFileSize: 4.901 MiB