Package: genefu Version: 2.39.1 Command: /Library/Frameworks/R.framework/Resources/bin/R CMD check --install=check:genefu.install-out.txt --library=/Library/Frameworks/R.framework/Resources/library --no-vignettes --timings genefu_2.39.1.tar.gz StartedAt: 2025-01-31 20:31:05 -0500 (Fri, 31 Jan 2025) EndedAt: 2025-01-31 20:33:32 -0500 (Fri, 31 Jan 2025) EllapsedTime: 147.1 seconds RetCode: 0 Status: WARNINGS CheckDir: genefu.Rcheck Warnings: 1