Package: genefu Version: 2.39.1 Command: rm -rf genefu.buildbin-libdir && mkdir genefu.buildbin-libdir && /Users/biocbuild/BBS/utils/build-universal.sh genefu_2.39.1.tar.gz /Library/Frameworks/R.framework/Resources/bin/R genefu.buildbin-libdir StartedAt: 2025-02-01 00:18:50 -0500 (Sat, 01 Feb 2025) EndedAt: 2025-02-01 00:19:25 -0500 (Sat, 01 Feb 2025) EllapsedTime: 34.7 seconds RetCode: 0 Status: OK PackageFile: genefu_2.39.1.tgz PackageFileSize: 5.187 MiB