Package: genefu Version: 2.39.1 Command: /home/biocbuild/R/R/bin/R CMD INSTALL genefu StartedAt: 2025-01-29 20:35:53 -0000 (Wed, 29 Jan 2025) EndedAt: 2025-01-29 20:36:27 -0000 (Wed, 29 Jan 2025) EllapsedTime: 33.9 seconds RetCode: 0 Status: OK