Package: genefu Version: 2.39.1 Command: /home/biocbuild/R/R/bin/R CMD check --install=check:genefu.install-out.txt --library=/home/biocbuild/R/R/site-library --no-vignettes --timings genefu_2.39.1.tar.gz StartedAt: 2025-01-28 10:51:03 -0000 (Tue, 28 Jan 2025) EndedAt: 2025-01-28 10:53:46 -0000 (Tue, 28 Jan 2025) EllapsedTime: 162.2 seconds RetCode: 0 Status: WARNINGS CheckDir: genefu.Rcheck Warnings: 3