Package: genefu Version: 2.39.1 Command: /home/biocbuild/R/R/bin/R CMD build --keep-empty-dirs --no-resave-data genefu StartedAt: 2025-01-28 23:03:44 -0000 (Tue, 28 Jan 2025) EndedAt: 2025-01-28 23:05:32 -0000 (Tue, 28 Jan 2025) EllapsedTime: 108.0 seconds RetCode: 0 Status: OK PackageFile: genefu_2.39.1.tar.gz PackageFileSize: 4.718 MiB