Package: gdsfmt Version: 1.43.1 Command: /home/biocbuild/bbs-3.21-bioc/R/bin/R CMD check --install=check:gdsfmt.install-out.txt --library=/home/biocbuild/bbs-3.21-bioc/R/site-library --timings gdsfmt_1.43.1.tar.gz StartedAt: 2025-02-04 22:30:02 -0500 (Tue, 04 Feb 2025) EndedAt: 2025-02-04 22:32:17 -0500 (Tue, 04 Feb 2025) EllapsedTime: 134.2 seconds RetCode: 0 Status: OK CheckDir: gdsfmt.Rcheck Warnings: 0