Package: gcapc Version: 1.31.0 Command: /Library/Frameworks/R.framework/Resources/bin/R CMD INSTALL gcapc StartedAt: 2025-02-04 15:18:52 -0500 (Tue, 04 Feb 2025) EndedAt: 2025-02-04 15:19:34 -0500 (Tue, 04 Feb 2025) EllapsedTime: 42.2 seconds RetCode: 0 Status: OK