Package: gcapc
Version: 1.31.0
Command: /Library/Frameworks/R.framework/Resources/bin/R CMD INSTALL gcapc
StartedAt: 2025-02-16 15:10:30 -0500 (Sun, 16 Feb 2025)
EndedAt: 2025-02-16 15:10:44 -0500 (Sun, 16 Feb 2025)
EllapsedTime: 13.2 seconds
RetCode: 0
Status: OK