Package: gcapc Version: 1.31.0 Command: /Library/Frameworks/R.framework/Resources/bin/R CMD check --install=check:gcapc.install-out.txt --library=/Library/Frameworks/R.framework/Resources/library --no-vignettes --timings gcapc_1.31.0.tar.gz StartedAt: 2025-02-04 19:20:08 -0500 (Tue, 04 Feb 2025) EndedAt: 2025-02-04 19:22:35 -0500 (Tue, 04 Feb 2025) EllapsedTime: 146.8 seconds RetCode: 0 Status: OK CheckDir: gcapc.Rcheck Warnings: 0