Package: gcapc Version: 1.31.0 Command: /Library/Frameworks/R.framework/Resources/bin/R CMD build --keep-empty-dirs --no-resave-data gcapc StartedAt: 2025-02-04 16:22:59 -0500 (Tue, 04 Feb 2025) EndedAt: 2025-02-04 16:24:18 -0500 (Tue, 04 Feb 2025) EllapsedTime: 78.9 seconds RetCode: 0 Status: OK PackageFile: gcapc_1.31.0.tar.gz PackageFileSize: 3.791 MiB