Package: funOmics
Version: 1.1.0
Maintainer: Elisa Gomez de Lope
MaintainerEmail: elisa.gomezdelope at uni.lu
git_url: https://git.bioconductor.org/packages/funOmics
git_branch: devel
git_last_commit: f088c60
git_last_commit_date: 2024-10-29 11:31:42 -0500 (Tue, 29 Oct 2024)