##############################################################################
##############################################################################
###
### Running command:
###
###   /Library/Frameworks/R.framework/Resources/bin/R CMD INSTALL frma
###
##############################################################################
##############################################################################


* installing to library ‘/Library/Frameworks/R.framework/Versions/4.5-x86_64/Resources/library’
ERROR: dependency ‘oligo’ is not available for package ‘frma’
Perhaps try a variation of:
install.packages('oligo')
* removing ‘/Library/Frameworks/R.framework/Versions/4.5-x86_64/Resources/library/frma’