Package: frma Version: 1.59.0 Command: /Library/Frameworks/R.framework/Resources/bin/R CMD build --keep-empty-dirs --no-resave-data frma StartedAt: 2025-02-19 16:44:23 -0500 (Wed, 19 Feb 2025) EndedAt: 2025-02-19 16:44:25 -0500 (Wed, 19 Feb 2025) EllapsedTime: 1.2 seconds RetCode: 1 Status: ERROR PackageFile: None PackageFileSize: NA