##############################################################################
##############################################################################
###
### Running command:
###
###   /Library/Frameworks/R.framework/Resources/bin/R CMD build --keep-empty-dirs --no-resave-data frma
###
##############################################################################
##############################################################################


* checking for file ‘frma/DESCRIPTION’ ... OK
* preparing ‘frma’:
* checking DESCRIPTION meta-information ... OK
* installing the package to build vignettes
      -----------------------------------
ERROR: dependency ‘oligo’ is not available for package ‘frma’
Perhaps try a variation of:
install.packages('oligo')
* removing ‘/private/tmp/Rtmp4Sx75t/Rinstc8d5224eae1b/frma’
      -----------------------------------
ERROR: package installation failed