Package: flowViz Version: 1.71.0 Command: /Library/Frameworks/R.framework/Resources/bin/R CMD check --install=check:flowViz.install-out.txt --library=/Library/Frameworks/R.framework/Resources/library --no-vignettes --timings flowViz_1.71.0.tar.gz StartedAt: 2025-02-04 19:17:47 -0500 (Tue, 04 Feb 2025) EndedAt: 2025-02-04 19:18:38 -0500 (Tue, 04 Feb 2025) EllapsedTime: 50.7 seconds RetCode: 0 Status: OK CheckDir: flowViz.Rcheck Warnings: 0