Package: flowViz
Version: 1.71.0
Command: /Library/Frameworks/R.framework/Resources/bin/R CMD build --keep-empty-dirs --no-resave-data flowViz
StartedAt: 2025-02-16 16:13:47 -0500 (Sun, 16 Feb 2025)
EndedAt: 2025-02-16 16:14:15 -0500 (Sun, 16 Feb 2025)
EllapsedTime: 28.3 seconds
RetCode: 0
Status: OK
PackageFile: flowViz_1.71.0.tar.gz
PackageFileSize: 1.194 <A href="http://en.wikipedia.org/wiki/MiB" target="_blank">MiB</A>