Package: flowPlots
Version: 1.55.0
Command: E:\biocbuild\bbs-3.21-bioc\R\bin\R.exe CMD INSTALL flowPlots
StartedAt: 2025-02-19 15:19:27 -0500 (Wed, 19 Feb 2025)
EndedAt: 2025-02-19 15:19:54 -0500 (Wed, 19 Feb 2025)
EllapsedTime: 27.6 seconds
RetCode: 0
Status: OK