Package: flowPlots
Version: 1.55.0
Command: E:\biocbuild\bbs-3.21-bioc\R\bin\R.exe CMD check --no-multiarch --install=check:flowPlots.install-out.txt --library=E:\biocbuild\bbs-3.21-bioc\R\library --no-vignettes --timings flowPlots_1.55.0.tar.gz
StartedAt: 2025-02-20 01:14:33 -0500 (Thu, 20 Feb 2025)
EndedAt: 2025-02-20 01:15:16 -0500 (Thu, 20 Feb 2025)
EllapsedTime: 43.1 seconds
RetCode: 0
Status: OK
CheckDir: flowPlots.Rcheck
Warnings: 0